BEGIN:VCALENDAR
VERSION:2.0
PRODID:-//IFFI - ECPv6.15.17.1//NONSGML v1.0//EN
CALSCALE:GREGORIAN
METHOD:PUBLISH
X-ORIGINAL-URL:https://iffi.nu
X-WR-CALDESC:Events for IFFI
REFRESH-INTERVAL;VALUE=DURATION:PT1H
X-Robots-Tag:noindex
X-PUBLISHED-TTL:PT1H
BEGIN:VTIMEZONE
TZID:Europe/Amsterdam
BEGIN:DAYLIGHT
TZOFFSETFROM:+0100
TZOFFSETTO:+0200
TZNAME:CEST
DTSTART:20210328T010000
END:DAYLIGHT
BEGIN:STANDARD
TZOFFSETFROM:+0200
TZOFFSETTO:+0100
TZNAME:CET
DTSTART:20211031T010000
END:STANDARD
BEGIN:DAYLIGHT
TZOFFSETFROM:+0100
TZOFFSETTO:+0200
TZNAME:CEST
DTSTART:20220327T010000
END:DAYLIGHT
BEGIN:STANDARD
TZOFFSETFROM:+0200
TZOFFSETTO:+0100
TZNAME:CET
DTSTART:20221030T010000
END:STANDARD
BEGIN:DAYLIGHT
TZOFFSETFROM:+0100
TZOFFSETTO:+0200
TZNAME:CEST
DTSTART:20230326T010000
END:DAYLIGHT
BEGIN:STANDARD
TZOFFSETFROM:+0200
TZOFFSETTO:+0100
TZNAME:CET
DTSTART:20231029T010000
END:STANDARD
END:VTIMEZONE
BEGIN:VEVENT
DTSTART;TZID=Europe/Amsterdam:20220317T180000
DTEND;TZID=Europe/Amsterdam:20220317T220000
DTSTAMP:20260421T102512
CREATED:20210108T080058Z
LAST-MODIFIED:20220304T124007Z
UID:10000289-1647540000-1647554400@iffi.nu
SUMMARY:Volatility of Energy and Logistics
URL:https://iffi.nu/event/true-price-of-food-3/
LOCATION:De Kruidfabriek\, De Oude Molen 5\, Amstelveen\, 1184 VW
CATEGORIES:Business Network
ATTACH;FMTTYPE=image/jpeg:https://iffi.nu/wp-content/uploads/2021/01/iffi-events-202201.jpg
ORGANIZER;CN="IFFI":MAILTO:marita@iffi.nu
END:VEVENT
BEGIN:VEVENT
DTSTART;TZID=Europe/Amsterdam:20220317T180000
DTEND;TZID=Europe/Amsterdam:20220317T220000
DTSTAMP:20260421T102512
CREATED:20210108T080058Z
LAST-MODIFIED:20220325T081534Z
UID:10000286-1647540000-1647554400@iffi.nu
SUMMARY:Volatility of Energy and Logistics
URL:https://iffi.nu/event/true-price-of-food-3-2/
LOCATION:De Kruidfabriek\, De Oude Molen 5\, Amstelveen\, 1184 VW
CATEGORIES:past event
ATTACH;FMTTYPE=image/jpeg:https://iffi.nu/wp-content/uploads/2021/01/iffi-events-202201.jpg
ORGANIZER;CN="IFFI":MAILTO:marita@iffi.nu
END:VEVENT
END:VCALENDAR