BEGIN:VCALENDAR
VERSION:2.0
PRODID:-//IFFI - ECPv6.15.17.1//NONSGML v1.0//EN
CALSCALE:GREGORIAN
METHOD:PUBLISH
X-ORIGINAL-URL:https://iffi.nu
X-WR-CALDESC:Events for IFFI
REFRESH-INTERVAL;VALUE=DURATION:PT1H
X-Robots-Tag:noindex
X-PUBLISHED-TTL:PT1H
BEGIN:VTIMEZONE
TZID:Europe/Amsterdam
BEGIN:DAYLIGHT
TZOFFSETFROM:+0100
TZOFFSETTO:+0200
TZNAME:CEST
DTSTART:20240331T010000
END:DAYLIGHT
BEGIN:STANDARD
TZOFFSETFROM:+0200
TZOFFSETTO:+0100
TZNAME:CET
DTSTART:20241027T010000
END:STANDARD
BEGIN:DAYLIGHT
TZOFFSETFROM:+0100
TZOFFSETTO:+0200
TZNAME:CEST
DTSTART:20250330T010000
END:DAYLIGHT
BEGIN:STANDARD
TZOFFSETFROM:+0200
TZOFFSETTO:+0100
TZNAME:CET
DTSTART:20251026T010000
END:STANDARD
BEGIN:DAYLIGHT
TZOFFSETFROM:+0100
TZOFFSETTO:+0200
TZNAME:CEST
DTSTART:20260329T010000
END:DAYLIGHT
BEGIN:STANDARD
TZOFFSETFROM:+0200
TZOFFSETTO:+0100
TZNAME:CET
DTSTART:20261025T010000
END:STANDARD
END:VTIMEZONE
BEGIN:VEVENT
DTSTART;TZID=Europe/Amsterdam:20250326T130000
DTEND;TZID=Europe/Amsterdam:20250326T193000
DTSTAMP:20260421T020720
CREATED:20250224T123130Z
LAST-MODIFIED:20250408T143704Z
UID:10000377-1742994000-1743017400@iffi.nu
SUMMARY:Young IFFI - Innovate\, Collaborate\, Accelerate
URL:https://iffi.nu/event/young-iffi-innovate-collaborate-accelerate/
LOCATION:Euroma\, Ravensburgstraat 4\, Zwolle\, 8028 PZ\, Netherlands
CATEGORIES:past event,Past event YIFFI
ATTACH;FMTTYPE=image/png:https://iffi.nu/wp-content/uploads/2025/02/header-nieuwsbrief-2.png
ORGANIZER;CN="Young IFFI":MAILTO:marita@iffi.nu
END:VEVENT
END:VCALENDAR