BEGIN:VCALENDAR
VERSION:2.0
PRODID:-//IFFI - ECPv6.15.17.1//NONSGML v1.0//EN
CALSCALE:GREGORIAN
METHOD:PUBLISH
X-ORIGINAL-URL:https://iffi.nu
X-WR-CALDESC:Events for IFFI
REFRESH-INTERVAL;VALUE=DURATION:PT1H
X-Robots-Tag:noindex
X-PUBLISHED-TTL:PT1H
BEGIN:VTIMEZONE
TZID:Europe/Amsterdam
BEGIN:DAYLIGHT
TZOFFSETFROM:+0100
TZOFFSETTO:+0200
TZNAME:CEST
DTSTART:20240331T010000
END:DAYLIGHT
BEGIN:STANDARD
TZOFFSETFROM:+0200
TZOFFSETTO:+0100
TZNAME:CET
DTSTART:20241027T010000
END:STANDARD
BEGIN:DAYLIGHT
TZOFFSETFROM:+0100
TZOFFSETTO:+0200
TZNAME:CEST
DTSTART:20250330T010000
END:DAYLIGHT
BEGIN:STANDARD
TZOFFSETFROM:+0200
TZOFFSETTO:+0100
TZNAME:CET
DTSTART:20251026T010000
END:STANDARD
BEGIN:DAYLIGHT
TZOFFSETFROM:+0100
TZOFFSETTO:+0200
TZNAME:CEST
DTSTART:20260329T010000
END:DAYLIGHT
BEGIN:STANDARD
TZOFFSETFROM:+0200
TZOFFSETTO:+0100
TZNAME:CET
DTSTART:20261025T010000
END:STANDARD
END:VTIMEZONE
BEGIN:VEVENT
DTSTART;TZID=Europe/Amsterdam:20250620T160000
DTEND;TZID=Europe/Amsterdam:20250620T203000
DTSTAMP:20260421T032610
CREATED:20250228T105544Z
LAST-MODIFIED:20250623T081726Z
UID:10000379-1750435200-1750451400@iffi.nu
SUMMARY:Young IFFI - Sustainable Summer
URL:https://iffi.nu/event/young-iffi-sustainable-summer/
LOCATION:Green Village\, Blokhoeve 7\, Nieuwegein\, 3438 LC\, Netherlands
CATEGORIES:past event,Past event YIFFI
ATTACH;FMTTYPE=image/png:https://iffi.nu/wp-content/uploads/2025/02/header-YI-4-plogo.png
ORGANIZER;CN="Young IFFI":MAILTO:marita@iffi.nu
END:VEVENT
END:VCALENDAR