BEGIN:VCALENDAR
VERSION:2.0
PRODID:-//IFFI - ECPv6.15.17.1//NONSGML v1.0//EN
CALSCALE:GREGORIAN
METHOD:PUBLISH
X-ORIGINAL-URL:https://iffi.nu
X-WR-CALDESC:Events for IFFI
REFRESH-INTERVAL;VALUE=DURATION:PT1H
X-Robots-Tag:noindex
X-PUBLISHED-TTL:PT1H
BEGIN:VTIMEZONE
TZID:Europe/Amsterdam
BEGIN:DAYLIGHT
TZOFFSETFROM:+0100
TZOFFSETTO:+0200
TZNAME:CEST
DTSTART:20250330T010000
END:DAYLIGHT
BEGIN:STANDARD
TZOFFSETFROM:+0200
TZOFFSETTO:+0100
TZNAME:CET
DTSTART:20251026T010000
END:STANDARD
BEGIN:DAYLIGHT
TZOFFSETFROM:+0100
TZOFFSETTO:+0200
TZNAME:CEST
DTSTART:20260329T010000
END:DAYLIGHT
BEGIN:STANDARD
TZOFFSETFROM:+0200
TZOFFSETTO:+0100
TZNAME:CET
DTSTART:20261025T010000
END:STANDARD
BEGIN:DAYLIGHT
TZOFFSETFROM:+0100
TZOFFSETTO:+0200
TZNAME:CEST
DTSTART:20270328T010000
END:DAYLIGHT
BEGIN:STANDARD
TZOFFSETFROM:+0200
TZOFFSETTO:+0100
TZNAME:CET
DTSTART:20271031T010000
END:STANDARD
BEGIN:DAYLIGHT
TZOFFSETFROM:+0100
TZOFFSETTO:+0200
TZNAME:CEST
DTSTART:20280326T010000
END:DAYLIGHT
BEGIN:STANDARD
TZOFFSETFROM:+0200
TZOFFSETTO:+0100
TZNAME:CET
DTSTART:20281029T010000
END:STANDARD
END:VTIMEZONE
BEGIN:VEVENT
DTSTART;VALUE=DATE:20260319
DTEND;VALUE=DATE:20260629
DTSTAMP:20260421T102512
CREATED:20260218T141214Z
LAST-MODIFIED:20260218T141355Z
UID:10000413-1773878400-1782691199@iffi.nu
SUMMARY:Internship Food System Innovation
URL:https://iffi.nu/event/internship-food-system-innovation/
CATEGORIES:Activity type,Educationlevel,Food,IFFI Talent Kitchen,Intership-thesis
ORGANIZER;CN="IFFI":MAILTO:marita@iffi.nu
END:VEVENT
BEGIN:VEVENT
DTSTART;TZID=Europe/Amsterdam:20260430T160000
DTEND;TZID=Europe/Amsterdam:20260430T170000
DTSTAMP:20260421T102512
CREATED:20260224T145443Z
LAST-MODIFIED:20260403T103456Z
UID:10000415-1777564800-1777568400@iffi.nu
SUMMARY:Online meeting IFFI Talent Kitchen
URL:https://iffi.nu/event/online-meeting-iffi-talent-kitchen/
CATEGORIES:Business Network
ATTACH;FMTTYPE=image/png:https://iffi.nu/wp-content/uploads/2026/02/iffi-talent-kitche.png
ORGANIZER;CN="IFFI":MAILTO:marita@iffi.nu
END:VEVENT
BEGIN:VEVENT
DTSTART;VALUE=DATE:20260519
DTEND;VALUE=DATE:20260520
DTSTAMP:20260421T102512
CREATED:20251229T131952Z
LAST-MODIFIED:20260420T093353Z
UID:10000404-1779148800-1779235199@iffi.nu
SUMMARY:Young IFFI Event | Food in Mind
URL:https://iffi.nu/event/young-iffi-event-food-in-mind/
LOCATION:KNVB Campus\, Woudenbergseweg 56\, Zeist\, 3707 HX\, Netherlands
CATEGORIES:Young IFFI
ATTACH;FMTTYPE=image/png:https://iffi.nu/wp-content/uploads/2025/12/young-iffi-event-food-in-mind-e1767116470286.png
ORGANIZER;CN="IFFI":MAILTO:marita@iffi.nu
END:VEVENT
BEGIN:VEVENT
DTSTART;VALUE=DATE:20260529
DTEND;VALUE=DATE:20260530
DTSTAMP:20260421T102512
CREATED:20260304T165509Z
LAST-MODIFIED:20260304T165509Z
UID:10000418-1780012800-1780099199@iffi.nu
SUMMARY:Networking event Food Technology
URL:https://iffi.nu/event/networking-event-food-technology/
LOCATION:Van Hall Larenstein\, Leeuwaarden
CATEGORIES:Activity type,Career Day,Food,HBO,IFFI Talent Kitchen
ORGANIZER;CN="IFFI":MAILTO:marita@iffi.nu
END:VEVENT
BEGIN:VEVENT
DTSTART;VALUE=DATE:20260530
DTEND;VALUE=DATE:20260531
DTSTAMP:20260421T102512
CREATED:20251204T144246Z
LAST-MODIFIED:20260203T113623Z
UID:10000396-1780099200-1780185599@iffi.nu
SUMMARY:Case Study on Product Quality
URL:https://iffi.nu/event/case-study-on-food-quality/
LOCATION:Wageningen University
CATEGORIES:Case Study,Food,IFFI Talent Kitchen,WO
ORGANIZER;CN="IFFI":MAILTO:marita@iffi.nu
END:VEVENT
BEGIN:VEVENT
DTSTART;TZID=Europe/Amsterdam:20260624T080000
DTEND;TZID=Europe/Amsterdam:20260626T170000
DTSTAMP:20260421T102512
CREATED:20251230T085906Z
LAST-MODIFIED:20260210T200128Z
UID:10000405-1782288000-1782493200@iffi.nu
SUMMARY:EC Trip | Strategic Routes to Market
URL:https://iffi.nu/event/ec-trip-strategic-routes-to-market/
CATEGORIES:Business Network
ATTACH;FMTTYPE=image/png:https://iffi.nu/wp-content/uploads/2025/12/IFFI-EC-trip-e1768316148446.png
ORGANIZER;CN="IFFI":MAILTO:marita@iffi.nu
END:VEVENT
BEGIN:VEVENT
DTSTART;VALUE=DATE:20260901
DTEND;VALUE=DATE:20270202
DTSTAMP:20260421T102512
CREATED:20260227T115938Z
LAST-MODIFIED:20260227T115938Z
UID:10000417-1788220800-1801526399@iffi.nu
SUMMARY:Internship Commerciële Economie
URL:https://iffi.nu/event/internship-commerciele-economie/
CATEGORIES:Activity type,Economy,Educationlevel,Educationstype,HBO,IFFI Talent Kitchen,Intership-thesis
ORGANIZER;CN="IFFI":MAILTO:marita@iffi.nu
END:VEVENT
BEGIN:VEVENT
DTSTART;VALUE=DATE:20260901
DTEND;VALUE=DATE:20270130
DTSTAMP:20260421T102512
CREATED:20260320T161033Z
LAST-MODIFIED:20260320T161033Z
UID:10000420-1788220800-1801267199@iffi.nu
SUMMARY:Internship Food Technology
URL:https://iffi.nu/event/internship-food-technology/
CATEGORIES:Activity type,Educationlevel,Educationstype,Food,HBO,IFFI Talent Kitchen,Intership-thesis
ORGANIZER;CN="IFFI":MAILTO:marita@iffi.nu
END:VEVENT
BEGIN:VEVENT
DTSTART;VALUE=DATE:20260901
DTEND;VALUE=DATE:20270130
DTSTAMP:20260421T102512
CREATED:20260320T161831Z
LAST-MODIFIED:20260320T161831Z
UID:10000421-1788220800-1801267199@iffi.nu
SUMMARY:Professional assigment (beroepsopdracht) Food Technology  
URL:https://iffi.nu/event/professional-assigment-beroepsopdracht-food-technology/
CATEGORIES:Activity type,Educationlevel,Educationstype,Food,HBO,IFFI Talent Kitchen,Intership-thesis
END:VEVENT
BEGIN:VEVENT
DTSTART;VALUE=DATE:20260901
DTEND;VALUE=DATE:20270130
DTSTAMP:20260421T102512
CREATED:20260320T162556Z
LAST-MODIFIED:20260320T162556Z
UID:10000422-1788220800-1801267199@iffi.nu
SUMMARY:Project Internship Food Innovation
URL:https://iffi.nu/event/project-internship-food-innovation/
CATEGORIES:Activity type,Educationlevel,Educationstype,Food,HBO,IFFI Talent Kitchen,Intership-thesis
END:VEVENT
BEGIN:VEVENT
DTSTART;VALUE=DATE:20260901
DTEND;VALUE=DATE:20270130
DTSTAMP:20260421T102512
CREATED:20260320T164703Z
LAST-MODIFIED:20260320T164703Z
UID:10000424-1788220800-1801267199@iffi.nu
SUMMARY:Professional assigment (beroepsopdracht) Food Innovation
URL:https://iffi.nu/event/professional-assigment-beroepsopdracht-food-innovation/
CATEGORIES:Activity type,Educationlevel,Educationstype,Food,HBO,IFFI Talent Kitchen,Intership-thesis
END:VEVENT
BEGIN:VEVENT
DTSTART;TZID=Europe/Amsterdam:20260902T133000
DTEND;TZID=Europe/Amsterdam:20260902T220000
DTSTAMP:20260421T102512
CREATED:20251229T124026Z
LAST-MODIFIED:20260127T135107Z
UID:10000406-1788355800-1788386400@iffi.nu
SUMMARY:EC Meeting | Summer Reception
URL:https://iffi.nu/event/ec-meeting-summer-reception/
CATEGORIES:Business Network
ATTACH;FMTTYPE=image/png:https://iffi.nu/wp-content/uploads/2025/12/EC-summer-meeting-e1767116499522.png
ORGANIZER;CN="IFFI":MAILTO:marita@iffi.nu
END:VEVENT
BEGIN:VEVENT
DTSTART;TZID=Europe/Amsterdam:20260917T080000
DTEND;TZID=Europe/Amsterdam:20260917T170000
DTSTAMP:20260421T102512
CREATED:20251229T123753Z
LAST-MODIFIED:20260320T162745Z
UID:10000407-1789632000-1789664400@iffi.nu
SUMMARY:IFFI Event | Culinology Anniversary
URL:https://iffi.nu/event/iffi-event-culinology-anniversary/
CATEGORIES:Business Network
ATTACH;FMTTYPE=image/png:https://iffi.nu/wp-content/uploads/2025/12/IFFI-event-september-e1767116683177.png
ORGANIZER;CN="IFFI":MAILTO:marita@iffi.nu
END:VEVENT
BEGIN:VEVENT
DTSTART;VALUE=DATE:20260930
DTEND;VALUE=DATE:20261001
DTSTAMP:20260421T102512
CREATED:20251204T111448Z
LAST-MODIFIED:20260203T113333Z
UID:10000394-1790726400-1790812799@iffi.nu
SUMMARY:Internship Health Food Innovation Management
URL:https://iffi.nu/event/internship-health-food-innovation-management/
CATEGORIES:Food,IFFI Talent Kitchen,Intership-thesis,WO
ORGANIZER;CN="IFFI":MAILTO:marita@iffi.nu
END:VEVENT
BEGIN:VEVENT
DTSTART;TZID=Europe/Amsterdam:20261008T100000
DTEND;TZID=Europe/Amsterdam:20261008T170000
DTSTAMP:20260421T102512
CREATED:20251229T131355Z
LAST-MODIFIED:20260127T162543Z
UID:10000408-1791453600-1791478800@iffi.nu
SUMMARY:Young IFFI Network Meeting | Building a Sustainable Industry
URL:https://iffi.nu/event/young-iffi-network-meeting-building-a-sustainable-industry/
CATEGORIES:Business Academy,Young IFFI
ATTACH;FMTTYPE=image/jpeg:https://iffi.nu/wp-content/uploads/2025/12/Young-IFFI-food-in-mind-oktober-e1768816129429.jpg
ORGANIZER;CN="IFFI":MAILTO:marita@iffi.nu
END:VEVENT
BEGIN:VEVENT
DTSTART;TZID=Europe/Amsterdam:20261112T080000
DTEND;TZID=Europe/Amsterdam:20261113T170000
DTSTAMP:20260421T102512
CREATED:20251229T123619Z
LAST-MODIFIED:20260303T161900Z
UID:10000409-1794470400-1794589200@iffi.nu
SUMMARY:IFFI Masterclass | Advancing Operations in Food
URL:https://iffi.nu/event/iffi-masterclass-advancing-operations-in-food/
CATEGORIES:Business Academy
ATTACH;FMTTYPE=image/png:https://iffi.nu/wp-content/uploads/2025/12/Untitled-design-8.png
ORGANIZER;CN="IFFI":MAILTO:marita@iffi.nu
END:VEVENT
BEGIN:VEVENT
DTSTART;TZID=Europe/Amsterdam:20261117T080000
DTEND;TZID=Europe/Amsterdam:20261119T170000
DTSTAMP:20260421T102512
CREATED:20251229T122406Z
LAST-MODIFIED:20260127T163704Z
UID:10000410-1794902400-1795107600@iffi.nu
SUMMARY:FI Europe
URL:https://iffi.nu/event/fi-europe/
CATEGORIES:Business Network
ATTACH;FMTTYPE=image/webp:https://iffi.nu/wp-content/uploads/2025/01/IFFI-event-2025_eventafbeelding-09-e1736950935102.webp
ORGANIZER;CN="IFFI":MAILTO:marita@iffi.nu
END:VEVENT
END:VCALENDAR