BEGIN:VCALENDAR
VERSION:2.0
PRODID:-//IFFI - ECPv6.15.17.1//NONSGML v1.0//EN
CALSCALE:GREGORIAN
METHOD:PUBLISH
X-WR-CALNAME:IFFI
X-ORIGINAL-URL:https://iffi.nu
X-WR-CALDESC:Events for IFFI
REFRESH-INTERVAL;VALUE=DURATION:PT1H
X-Robots-Tag:noindex
X-PUBLISHED-TTL:PT1H
BEGIN:VTIMEZONE
TZID:Europe/Amsterdam
BEGIN:DAYLIGHT
TZOFFSETFROM:+0100
TZOFFSETTO:+0200
TZNAME:CEST
DTSTART:20240331T010000
END:DAYLIGHT
BEGIN:STANDARD
TZOFFSETFROM:+0200
TZOFFSETTO:+0100
TZNAME:CET
DTSTART:20241027T010000
END:STANDARD
BEGIN:DAYLIGHT
TZOFFSETFROM:+0100
TZOFFSETTO:+0200
TZNAME:CEST
DTSTART:20250330T010000
END:DAYLIGHT
BEGIN:STANDARD
TZOFFSETFROM:+0200
TZOFFSETTO:+0100
TZNAME:CET
DTSTART:20251026T010000
END:STANDARD
BEGIN:DAYLIGHT
TZOFFSETFROM:+0100
TZOFFSETTO:+0200
TZNAME:CEST
DTSTART:20260329T010000
END:DAYLIGHT
BEGIN:STANDARD
TZOFFSETFROM:+0200
TZOFFSETTO:+0100
TZNAME:CET
DTSTART:20261025T010000
END:STANDARD
END:VTIMEZONE
BEGIN:VEVENT
DTSTART;VALUE=DATE:20250918
DTEND;VALUE=DATE:20250919
DTSTAMP:20260421T084759
CREATED:20250923T113231Z
LAST-MODIFIED:20251217T084342Z
UID:10000385-1758153600-1758239999@iffi.nu
SUMMARY:Young IFFI Event - Building resilience in a changing industry
URL:https://iffi.nu/event/young-iffi-event-building-resilience-in-a-changing-industry-2/
LOCATION:Antropia\, Cultuur- en Congrescentrum\, Hoofdstraat 8\, Driebergen\, 3972 LA
CATEGORIES:past event,Past event YIFFI
ATTACH;FMTTYPE=image/webp:https://iffi.nu/wp-content/uploads/2025/01/IFFI-event-2025_eventafbeelding-06-e1736950977825.webp
ORGANIZER;CN="IFFI":MAILTO:marita@iffi.nu
END:VEVENT
END:VCALENDAR