BEGIN:VCALENDAR
VERSION:2.0
PRODID:-//IFFI - ECPv6.15.17.1//NONSGML v1.0//EN
CALSCALE:GREGORIAN
METHOD:PUBLISH
X-WR-CALNAME:IFFI
X-ORIGINAL-URL:https://iffi.nu
X-WR-CALDESC:Events for IFFI
REFRESH-INTERVAL;VALUE=DURATION:PT1H
X-Robots-Tag:noindex
X-PUBLISHED-TTL:PT1H
BEGIN:VTIMEZONE
TZID:Europe/Amsterdam
BEGIN:DAYLIGHT
TZOFFSETFROM:+0100
TZOFFSETTO:+0200
TZNAME:CEST
DTSTART:20240331T010000
END:DAYLIGHT
BEGIN:STANDARD
TZOFFSETFROM:+0200
TZOFFSETTO:+0100
TZNAME:CET
DTSTART:20241027T010000
END:STANDARD
BEGIN:DAYLIGHT
TZOFFSETFROM:+0100
TZOFFSETTO:+0200
TZNAME:CEST
DTSTART:20250330T010000
END:DAYLIGHT
BEGIN:STANDARD
TZOFFSETFROM:+0200
TZOFFSETTO:+0100
TZNAME:CET
DTSTART:20251026T010000
END:STANDARD
BEGIN:DAYLIGHT
TZOFFSETFROM:+0100
TZOFFSETTO:+0200
TZNAME:CEST
DTSTART:20260329T010000
END:DAYLIGHT
BEGIN:STANDARD
TZOFFSETFROM:+0200
TZOFFSETTO:+0100
TZNAME:CET
DTSTART:20261025T010000
END:STANDARD
END:VTIMEZONE
BEGIN:VEVENT
DTSTART;TZID=Europe/Amsterdam:20250820T130000
DTEND;TZID=Europe/Amsterdam:20250820T170000
DTSTAMP:20260421T021033
CREATED:20250810T104916Z
LAST-MODIFIED:20250812T131223Z
UID:10000383-1755694800-1755709200@iffi.nu
SUMMARY:Test activiteit 1
URL:https://iffi.nu/event/test-activiteit-1/
LOCATION:Testlocation\, Teststreet 1\, Testcity\, 1111AA\, Netherlands
CATEGORIES:Economy,Food,HBO,MBO,Science,VO,WO
ORGANIZER;CN="Test Organisator":MAILTO:info@mydomain.com
END:VEVENT
END:VCALENDAR